Workbook

Sheet ПРИЛОЖЕНИЕ № 3 (расх)
A1: Приложение № 3 к решению Собрания представителей Среднеканского городского округа "О внесении изменений в решение Собрания представителей Среднеканского городского округа «О бюджете муниципального образования «Среднеканский городской округ» на 2020 год и плановый период 2021 и 2022 годов» от_______________№_______
A3: Приложение № 4
A4: к решению Собрания представителей
A5: Среднеканского городского округа
B6: от 28.12.2019 г. № 46
A9: РАСПРЕДЕЛЕНИЕ РАСХОДОВ
A10: БЮДЖЕТА МУНИЦИПАЛЬНОГО ОБРАЗОВАНИЯ "СРЕДНЕКАНСКИЙ ГОРОДСКОЙ ОКРУГ"
A11: ПО РАЗДЕЛАМ И ПОДРАЗДЕЛАМ КЛАССИФИКАЦИИ РАСХОДОВ НА 2020 ГОД
D12: (тыс. руб.)
A13: Наименование показателя | D13: Сумма
B14: раздел | C14: подраздел
A15: 1 | B15: 2 | C15: 3 | D15: 4
A16: ВСЕГО РАСХОДОВ: | D16: 585060.94
A17: ОБЩЕГОСУДАРСТВЕННЫЕ ВОПРОСЫ | B17: 01 | D17: 135313.52
A18: Функционирование высшего должностного лица субъекта Российской Федерации и муниципального образования | B18: 01 | C18: 02 | D18: 3865.95
A19: Функционирование законодательных (представительных) органов государственной власти и представительных органов муниципальных образований | B19: 01 | C19: 03 | D19: 1644.28
A20: Функционирование Правительства Российской Федерации, высших исполнительных органов государственной власти субъектов Российской Федерации, местных администраций | B20: 01 | C20: 04 | D20: 74737.385
A21: Обеспечение деятельности финансовых, налоговых и таможенных органов и органов финансового (финансово-бюджетного) надзора | B21: 01 | C21: 06 | D21: 9960.6451
A22: Обеспечение проведения выборов и референдумов | B22: 01 | C22: 07 | D22: 526.49
A23: Резервные фонды | B23: 01 | C23: 11 | D23: 87.8
A24: Другие общегосударственные вопросы | B24: 01 | C24: 13 | D24: 44490.97
A25: НАЦИОНАЛЬНАЯ ОБОРОНА | B25: 02 | D25: 534.8
A26: Мобилизационная и вневойсковая подготовка | B26: 02 | C26: 03 | D26: 534.8
A27: НАЦИОНАЛЬНАЯ БЕЗОПАСНОСТЬ И ПРАВООХРАНИТЕЛЬНАЯ ДЕЯТЕЛЬНОСТЬ | B27: 03 | D27: 5437.06
A28: Защита населения и территории от чрезвычайных ситуаций природного и техногенного характера, гражданская оборона | B28: 03 | C28: 09 | D28: 4953.77
A29: Другие вопросы в области национальной безопасности и правоохранительной деятельности | B29: 03 | C29: 14 | D29: 483.29
A30: НАЦИОНАЛЬНАЯ ЭКОНОМИКА | B30: 04 | D30: 17887.6
A31: Сельское хозяйство и рыболовство | B31: 04 | C31: 05 | D31: 284.8
A32: Водное хозяйство | B32: 04 | C32: 06 | D32: 6465.1
A33: Транспорт | B33: 04 | C33: 08 | D33: 2558.5
A34: Дорожное хозяйство (дорожные фонды) | B34: 04 | C34: 09 | D34: 7690
A35: Другие вопросы в области национальной экономики | B35: 04 | C35: 12 | D35: 889.2
A36: ЖИЛИЩНО-КОММУНАЛЬНОЕ ХОЗЯЙСТВО | B36: 05 | D36: 172704.17
A37: Жилищное хозяйство | B37: 05 | C37: 01 | D37: 26034.84
A38: Коммунальное хозяйство | B38: 05 | C38: 02 | D38: 123070.05
A39: Благоустройство | B39: 05 | C39: 03 | D39: 23599.28
A40: Другие вопросы в области жилищно-коммунального хозяйства | B40: 05 | C40: 05 | D40: 0
A41: ОХРАНА ОКРУЖАЮЩЕЙ СРЕДЫ | B41: 06 | D41: 599
A42: Другие вопросы в области охраны окружающей среды | B42: 06 | C42: 05 | D42: 599
A43: ОБРАЗОВАНИЕ | B43: 07 | D43: 190410.39
...

Sheet ПРИЛОЖЕНИЕ №  4 (расх)
A1: Приложение № 4 к решению Собрания представителей Среднеканского городского округа "О внесении изменений в решение Собрания представителей Среднеканского городского округа «О бюджете муниципального образования «Среднеканский городской округ» на 2020 год и плановый период 2021 и 2022 годов» от_______________№______
G3: Приложение № 5
C4: к решению Собрания представителей
C5: Среднеканского городского округа
D6: от 28.12.2019 г. № 46
A8: РАСПРЕДЕЛЕНИЕ БЮДЖЕТНЫХ АССИГНОВАНИЙ
A9: ИЗ БЮДЖЕТА МУНИЦИПАЛЬНОГО ОБРАЗОВАНИЯ "СРЕДНЕКАНСКИЙ ГОРОДСКОЙ ОКРУГ"
A10: ПО РАЗДЕЛАМ И ПОДРАЗДЕЛАМ, ЦЕЛЕВЫМ СТАТЬЯМ, ПО ГРУППАМ, ПОДГРУППАМ ВИДОВ РАСХОДОВ
A11: КЛАССИФИКАЦИИ РАСХОДОВ БЮДЖЕТОВ НА 2020 ГОД
H12: (тыс. руб.)
A13: Наименование показателя | B13: К О Д Ы классификации расходов бюджетов | H13: Сумма | I13: Исполнено на 01.10.2012 г. | J13: % Исполнения
B14: глав-ный распо-ряди-тель* | C14: раздел | D14: подраздел | E14: целевая статья | G14: вид расхода
A15: 1 | B15: 2 | C15: 2 | D15: 3 | E15: 4 | G15: 5 | H15: 6 | I15: 7 | J15: 8
A16: ВСЕГО РАСХОДОВ: | H16: =H17+H226+H232+H289+H361+H521+H1024+H1152+H1179+H1224+H1245+H512 -> 585060.94 | I16: =#REF!+#REF!+#REF!+#REF!+#REF!+#REF!+#REF!+#REF!+#REF!+#REF!+#REF!+#REF!+#REF! -> #REF! | J16: =I16/H16 -> #REF!
A17: ОБЩЕГОСУДАРСТВЕННЫЕ ВОПРОСЫ | B17: 01 | C17: 01 | H17: =H18+H30+H45+H82+H119+H125+H109 -> 135313.52 | I17: 0 | J17: =I17/H17 -> 0
A18: Функционирование высшего должностного лица субъекта Российской Федерации и муниципального образования | B18: МО "Среднеканский район" | C18: 01 | D18: 02 | H18: =H19+H27 -> 3865.95
A19: Реализация муниципальной программы "Развитие муниципальной службы в муниципальном образовании «Среднеканский городской округ» на 2020 – 2022 годы" | C19: 01 | D19: 02 | E19: 03000 | F19: 00000 | H19: =H20 -> 3727.59
A20: Расходы на обеспечение деятельности органов местного самоуправления | C20: 01 | D20: 02 | E20: 03010 | F20: 00000 | H20: =H21 -> 3727.59
A21: Расходы на обеспечение деятельности высшего должностного лица муниципального образования | C21: 01 | D21: 02 | E21: 0301Г | F21: 00000 | H21: =H24+H22 -> 3727.59
A22: Прочие несоциальные выплаты персоналу в натуральной форме | C22: 01 | D22: 02 | E22: 0301Г | F22: 00214 | H22: =H23 -> 0
A23: Расходы на выплаты персоналу в целях обеспечения выполнения функций государственными (муниципальными) органами, казенными учреждениями, органами управления государственными внебюджетными фондами | C23: 01 | D23: 02 | E23: 0301Г | F23: 00214 | G23: 100 | H23: ='ПРИЛОЖЕНИЕ № 5 (расх)'!H21 -> 0
A24: Расходы на выплаты по оплате труда работников муниципальных органов | C24: 01 | D24: 02 | E24: 0301Г | F24: 00110 | H24: =H25 -> 3727.59
A25: Расходы на выплаты персоналу в целях обеспечения выполнения функций государственными (муниципальными) органами, казенными учреждениями, органами управления государственными внебюджетными фондами | C25: 01 | D25: 02 | E25: 0301Г | F25: 00110 | G25: 100 | H25: =H26 -> 3727.59
A26: Расходы на выплаты персоналу государственных (муниципальных) органов | C26: 01 | D26: 02 | E26: 0301Г | F26: 00110 | G26: 120 | H26: ='ПРИЛОЖЕНИЕ № 5 (расх)'!H24 -> 3727.59
A27: Расходы за достижение показателей деятельности органов исполнительной власти | C27: 01 | D27: 02 | E27: 0301Г | F27: 55491 | H27: =H28 -> 138.36
A28: Расходы на выплаты персоналу в целях обеспечения выполнения функций государственными (муниципальными) органами, казенными учреждениями, органами управления государственными внебюджетными фондами | C28: 01 | D28: 02 | E28: 0301Г | F28: 55941 | G28: 100 | H28: =H29 -> 138.36
A29: Расходы на выплаты персоналу государственных (муниципальных) органов | C29: 01 | D29: 02 | E29: 0301Г | F29: 55941 | G29: 120 | H29: ='ПРИЛОЖЕНИЕ № 5 (расх)'!G27:H27 -> 138.36
C30: 01 | D30: 03 | H30: =H31 -> 1644.28
A31: Реализация муниципальной программы "Развитие муниципальной службы в муниципальном образовании «Среднеканский городской округ» на 2020 – 2022 годы" | C31: 01 | D31: 03 | E31: 03000 | F31: 00000 | H31: =H32+H42 -> 1644.28
A32: Расходы на обеспечение деятельности органов местного самоуправления | C32: 01 | D32: 03 | E32: 03010 | F32: 00000 | H32: =H33 -> 1491.52
A33: Обеспечение деятельности представительного органа | C33: 01 | D33: 03 | E33: 0301Д | F33: 00000 | H33: =H34+H37 -> 1491.52
A34: Расходы на выплаты по оплате труда работников муниципальных органов | C34: 01 | D34: 03 | E34: 0301Д | F34: 00110 | H34: =H35 -> 1359.7
A35: Расходы на выплаты персоналу в целях обеспечения выполнения функций государственными (муниципальными) органами, казенными учреждениями, органами управления государственными внебюджетными фондами | C35: 01 | D35: 03 | E35: 0301Д | F35: 00110 | G35: 100 | H35: =H36 -> 1359.7
A36: Расходы на выплаты персоналу государственных (муниципальных) органов | C36: 01 | D36: 03 | E36: 0301Д | F36: 00110 | G36: 120 | H36: ='ПРИЛОЖЕНИЕ № 5 (расх)'!H1234 -> 1359.7
A37: Расходы на обеспечение функций органов местного самоуправления | C37: 01 | D37: 03 | E37: 0301Д | F37: 00190 | H37: =H38+H40 -> 131.82
A38: Закупка товаров, работ и услуг для обеспечения государственных (муниципальных) нужд | C38: 01 | D38: 03 | E38: 0301Д | F38: 00190 | G38: 200 | H38: =H39 -> 130.82
A39: Иные закупки товаров, работ и услуг для обеспечения государственных (муниципальных) нужд | C39: 01 | D39: 03 | E39: 0301Д | F39: 00190 | G39: 240 | H39: ='ПРИЛОЖЕНИЕ № 5 (расх)'!H1237 -> 130.82
A40: Иные бюджетные ассигнования | C40: 01 | D40: 03 | E40: 0301Д | F40: 00190 | G40: 800 | H40: =H41 -> 1
A41: Уплата налогов, сборов и иных платежей | C41: 01 | D41: 03 | E41: 0301Д | F41: 00190 | G41: 850 | H41: ='ПРИЛОЖЕНИЕ № 5 (расх)'!H1239 -> 1
A42: Расходы за достижение показателей деятельности органов исполнительной власти | C42: 01 | D42: 03 | E42: 0301Д | F42: 55491 | H42: =H43 -> 152.76
...

Sheet ПРИЛОЖЕНИЕ № 5 (расх)
A1: Приложение № 5 к решению Собрания представителей Среднеканского городского округа "О внесении изменений в решение Собрания представителей Среднеканского городского округа «О бюджете муниципального образования «Среднеканский городской округ» на 2020 год и плановый период 2021 и 2022 годов» от_______________№______
B3: Приложение № 6
B4: к решению Собрания представителей
B5: Среднеканского городского округа
B6: от 28.12.2019 г. № 46
A7: ВЕДОМСТВЕННАЯ СТРУКТУРА РАСХОДОВ БЮДЖЕТА
A8: МУНИЦИПАЛЬНОГО ОБРАЗОВАНИЯ "СРЕДНЕКАНСКИЙ ГОРОДСКОЙ ОКРУГ" НА 2020ГОД
H9: (тыс. руб.) | J9: тыс.рублей
A10: Наименование показателя | B10: К О Д Ы классификации расходов бюджетов | H10: Сумма | I10: Исполнено на 01.10.2012 г. | J10: % Исполнения
B11: главный распорядитель | C11: раздел | D11: подраздел | E11: целевая статья | G11: вид расхода
A12: 1 | B12: 2 | C12: 3 | D12: 4 | E12: 5 | G12: 6 | H12: 7 | I12: 7 | J12: 7
A13: ВСЕГО РАСХОДОВ: | H13: 585060.94 | I13: #REF! | J13: #REF!
A14: Администрация Среднеканского городского округа | B14: 701 | H14: 573229.15
A15: ОБЩЕГОСУДАРСТВЕННЫЕ ВОПРОСЫ | B15: 701 | C15: 01 | H15: 123708.59
A16: Функционирование высшего должностного лица субъекта Российской Федерации и муниципального образования | B16: 701 | C16: 01 | D16: 02 | H16: 3865.95
A17: Реализация муниципальной программы "Развитие муниципальной службы в муниципальном образовании «Среднеканский городской округ» на 2020 – 2022 годы" | B17: 701 | C17: 01 | D17: 02 | E17: 03000 | F17: 00000 | H17: 3727.59
A18: Расходы на обеспечение деятельности органов местного самоуправления | B18: 701 | C18: 01 | D18: 02 | E18: 03010 | F18: 00000 | H18: 3727.59
A19: Расходы на обеспечение деятельности высшего должностного лица муниципального образования | B19: 701 | C19: 01 | D19: 02 | E19: 0301Г | F19: 00000 | H19: 3727.59
A20: Прочие несоциальные выплаты персоналу в натуральной форме | B20: 701 | C20: 01 | D20: 02 | E20: 0301Г | F20: 00214 | H20: 0
A21: Расходы на выплаты персоналу в целях обеспечения выполнения функций государственными (муниципальными) органами, казенными учреждениями, органами управления государственными внебюджетными фондами | B21: 701 | C21: 01 | D21: 02 | E21: 0301Г | F21: 00214 | G21: 100 | H21: 0
A22: Расходы на выплаты по оплате труда работников муниципальных органов | B22: 701 | C22: 01 | D22: 02 | E22: 0301Г | F22: 00110 | H22: 3727.59
A23: Расходы на выплаты персоналу в целях обеспечения выполнения функций государственными (муниципальными) органами, казенными учреждениями, органами управления государственными внебюджетными фондами | B23: 701 | C23: 01 | D23: 02 | E23: 0301Г | F23: 00110 | G23: 100 | H23: 3727.59
A24: Расходы на выплаты персоналу государственных (муниципальных) органов | B24: 701 | C24: 01 | D24: 02 | E24: 0301Г | F24: 00110 | G24: 120 | H24: 3727.59
A25: Расходы за достижение показателей деятельности органов исполнительной власти | B25: 701 | C25: 01 | D25: 02 | E25: 0301Г | F25: 55491 | H25: 138.36
A26: Расходы на выплаты персоналу в целях обеспечения выполнения функций государственными (муниципальными) органами, казенными учреждениями, органами управления государственными внебюджетными фондами | B26: 701 | C26: 01 | D26: 02 | E26: 0301Г | F26: 55941 | G26: 100 | H26: 138.36
A27: Расходы на выплаты персоналу государственных (муниципальных) органов | B27: 701 | C27: 01 | D27: 02 | E27: 0301Г | F27: 55941 | G27: 120 | H27: 138.36
A28: Функционирование Правительства Российской Федерации, высших исполнительных органов государственной власти субъектов Российской Федерации, местных администраций | B28: 701 | C28: 01 | D28: 04 | H28: 74737.385 | I28: #REF! | J28: #REF!
A29: Реализация муниципальной программы "Развитие муниципальной службы в муниципальном образовании «Среднеканский городской округ» на 2020 – 2022 годы" | B29: 701 | C29: 01 | D29: 04 | E29: 03000 | F29: 00000 | H29: 74737.385
A30: Расходы на обеспечение деятельности органов местного самоуправления | B30: 701 | C30: 01 | D30: 04 | E30: 03010 | F30: 00000 | H30: 56126.07 | I30: #REF! | J30: #REF!
A31: Расходы на выплаты по оплате труда работников муниципальных органов | B31: 701 | C31: 01 | D31: 04 | E31: 03010 | F31: 00110 | H31: 51276.53
A32: Расходы на выплаты персоналу в целях обеспечения выполнения функций государственными (муниципальными) органами, казенными учреждениями, органами управления государственными внебюджетными фондами | B32: 701 | C32: 01 | D32: 04 | E32: 03010 | F32: 00110 | G32: 100 | H32: 51276.53
A33: Расходы на выплаты персоналу государственных (муниципальных) органов | B33: 701 | C33: 01 | D33: 04 | E33: 03010 | F33: 00110 | G33: 120 | H33: 51276.53
A34: Расходы на обеспечение функций органов местного самоуправления | B34: 701 | C34: 01 | D34: 04 | E34: 03010 | F34: 00190 | H34: 1718.6
A35: Закупка товаров, работ и услуг для обеспечения государственных (муниципальных) нужд | B35: 701 | C35: 01 | D35: 04 | E35: 03010 | F35: 00190 | G35: 200 | H35: 1541.99
A36: Иные закупки товаров, работ и услуг для обеспечения государственных (муниципальных) нужд | B36: 701 | C36: 01 | D36: 04 | E36: 03010 | F36: 00190 | G36: 240 | H36: 1541.99
A37: Иные бюджетные ассигнования | B37: 701 | C37: 01 | D37: 04 | E37: 03010 | F37: 00190 | G37: 800 | H37: 176.61
A38: Уплата налогов, сборов и иных платежей | B38: 701 | C38: 01 | D38: 04 | E38: 03010 | F38: 00190 | G38: 850 | H38: 176.61
A39: Прочие несоциальные выплаты персоналу в натуральной форме | B39: 701 | C39: 01 | D39: 04 | E39: 03010 | F39: 00214 | H39: 469.22
A40: Расходы на выплаты персоналу в целях обеспечения выполнения функций государственными (муниципальными) органами, казенными учреждениями, органами управления государственными внебюджетными фондами | B40: 701 | C40: 01 | D40: 04 | E40: 03010 | F40: 00214 | G40: 100 | H40: 469.22
A41: Расходы на выплаты персоналу государственных (муниципальных) органов | B41: 701 | C41: 01 | D41: 04 | E41: 03010 | F41: 00214 | G41: 120 | H41: 469.22
...
