Workbook

Sheet Результат
H1: Приложение № 6
H2: к постановлению Администрации
H3: Среднеканского муниципального округа
H4: Магаданской области
H5: от 27.04.2024 г. № 125-п
A7: ИСПОЛНЕНИЕ БЮДЖЕТА МУНИЦИПАЛЬНОГО ОБРАЗОВАНИЯ "СРЕДНЕКАНСКИЙ МУНИЦИПАЛЬНЫЙ ОКРУГ МАГАДАНСКОЙ ОБЛАСТИ" ПО РАСХОДАМ НАПРАВЛЕННЫХ НА ГОСУДАРСТВЕННУЮ ПОДДЕРЖКУ СЕМЬИ И ДЕТЕЙ ЗА I КВАРТАЛ 2024 ГОДА
A9: руб.
A10: Наименование | C10: ЦСР | D10: Рз | E10: Пр | F10: ВР | G10: ГР | H10: План на 2024 год | I10: Исполнено на 01.04.2024 г. | J10: % исполнения
A11: 1 | C11: 2 | D11: 3 | E11: 4 | F11: 5 | G11: 6 | H11: 7 | I11: 8 | J11: 9
A12: ВСЕГО | H12: 1.8577195e+08 | I12: =I13+I34+I62+I70+I224+I232 -> 16292776 | J12: =I12/H12*100 -> 8.7703101
A13: Муниципальная программа "Развитие муниципальной службы в муниципальном образовании "Среднеканский муниципальный округ" | C13: 0300000000 | H13: 7327518 | I13: =I14+I24 -> 826474.95 | J13: =I13/H13*100 -> 11.279057
A14: Осуществление деятельности органов опеки и попечительства над несовершеннолетними | C14: 0301М00000 | H14: 4885012 | I14: =I15 -> 467707.25 | J14: =I14/H14*100 -> 9.5743316
A15: Расходы на осуществление государственных полномочий по организации и осуществлению деятельности органов опеки и попечительства | C15: 0301М74090 | H15: 4885012 | I15: =I16 -> 467707.25 | J15: =I15/H15*100 -> 9.5743316
A16: СОЦИАЛЬНАЯ ПОЛИТИКА | C16: 0301М74090 | D16: 10 | H16: 4885012 | I16: =I17 -> 467707.25 | J16: =I16/H16*100 -> 9.5743316
A17: Другие вопросы в области социальной политики | C17: 0301М74090 | D17: 10 | E17: 06 | H17: 4885012 | I17: =I18+I21 -> 467707.25 | J17: =I17/H17*100 -> 9.5743316
A18: Расходы на выплаты персоналу в целях обеспечения выполнения функций государственными (муниципальными) органами, казенными учреждениями, органами управления государственными внебюджетными фондами | C18: 0301М74090 | D18: 10 | E18: 06 | F18: 100 | H18: 4440920 | I18: =I19 -> 464107.25 | J18: =I18/H18*100 -> 10.450701
A19: Расходы на выплаты персоналу государственных (муниципальных) органов | C19: 0301М74090 | D19: 10 | E19: 06 | F19: 120 | H19: 4440920 | I19: =I20 -> 464107.25 | J19: =I19/H19*100 -> 10.450701
A20: Администрация Среднеканского муниципального округа Магаданской области | C20: 0301М74090 | D20: 10 | E20: 06 | F20: 120 | G20: 701 | H20: 4440920 | I20: =[1]Расходы!$G$244+[1]Расходы!$G$245 -> 464107.25 | J20: =I20/H20*100 -> 10.450701
A21: Закупка товаров, работ и услуг для обеспечения государственных (муниципальных) нужд | C21: 0301М74090 | D21: 10 | E21: 06 | F21: 200 | H21: 444092 | I21: =I22 -> 3600 | J21: =I21/H21*100 -> 0.81064284
A22: Иные закупки товаров, работ и услуг для обеспечения государственных (муниципальных) нужд | C22: 0301М74090 | D22: 10 | E22: 06 | F22: 240 | H22: 444092 | I22: =I23 -> 3600 | J22: =I22/H22*100 -> 0.81064284
A23: Администрация Среднеканского муниципального округа Магаданской области | C23: 0301М74090 | D23: 10 | E23: 06 | F23: 240 | G23: 701 | H23: 444092 | I23: =+[1]Расходы!$G$246 -> 3600 | J23: =I23/H23*100 -> 0.81064284
A24: Организации деятельности комиссий по делам несовершеннолетних | C24: 0301Н00000 | H24: 2442506 | I24: =I25 -> 358767.7 | J24: =I24/H24*100 -> 14.688508
A25: Расходы на единую субвенцию государственных полномочий по созданию и организации деятельности комиссий по делам несовершеннолетних и защите их прав | C25: 0301Н74200 | H25: 2442506 | I25: =I26 -> 358767.7 | J25: =I25/H25*100 -> 14.688508
A26: ОБРАЗОВАНИЕ | C26: 0301Н74200 | D26: 07 | H26: 2442506 | I26: =I27 -> 358767.7 | J26: =I26/H26*100 -> 14.688508
A27: Другие вопросы в области образования | C27: 0301Н74200 | D27: 07 | E27: 09 | H27: 2442506 | I27: =I28+I31 -> 358767.7 | J27: =I27/H27*100 -> 14.688508
A28: Расходы на выплаты персоналу в целях обеспечения выполнения функций государственными (муниципальными) органами, казенными учреждениями, органами управления государственными внебюджетными фондами | C28: 0301Н74200 | D28: 07 | E28: 09 | F28: 100 | H28: 2220460 | I28: =I29 -> 356967.7 | J28: =I28/H28*100 -> 16.076295
A29: Расходы на выплаты персоналу государственных (муниципальных) органов | C29: 0301Н74200 | D29: 07 | E29: 09 | F29: 120 | H29: 2220460 | I29: =I30 -> 356967.7 | J29: =I29/H29*100 -> 16.076295
A30: Администрация Среднеканского муниципального округа Магаданской области | C30: 0301Н74200 | D30: 07 | E30: 09 | F30: 120 | G30: 701 | H30: 2220460 | I30: =[1]Расходы!$G$213+[1]Расходы!$G$214 -> 356967.7 | J30: =I30/H30*100 -> 16.076295
A31: Закупка товаров, работ и услуг для обеспечения государственных (муниципальных) нужд | C31: 0301Н74200 | D31: 07 | E31: 09 | F31: 200 | H31: 222046 | I31: =I32 -> 1800 | J31: =I31/H31*100 -> 0.81064284
A32: Иные закупки товаров, работ и услуг для обеспечения государственных (муниципальных) нужд | C32: 0301Н74200 | D32: 07 | E32: 09 | F32: 240 | H32: 222046 | I32: =I33 -> 1800 | J32: =I32/H32*100 -> 0.81064284
A33: Администрация Среднеканского муниципального округа Магаданской области | C33: 0301Н74200 | D33: 07 | E33: 09 | F33: 240 | G33: 701 | H33: 222046 | I33: =[1]Расходы!$G$215 -> 1800 | J33: =I33/H33*100 -> 0.81064284
A34: Реализация муниципальной программы летнего оздоровления и занятости детей Среднеканского муниципального округа | C34: 0400000000 | H34: 5144493.7 | I34: 0 | J34: =I34/H34*100 -> 0
A35: Организация отдыха и оздоровление детей в лагерях дневного пребывания учащихся в сельских школах | C35: 0400В00000 | H35: 767626.88 | I35: 0 | J35: =I35/H35*100 -> 0
A36: Расходы на софинансирование организации отдыха и оздоровления детей в лагерях дневного пребывания на базе сельских школ | C36: 0400ВS3930 | H36: 767626.88 | I36: 0 | J36: =I36/H36*100 -> 0
A37: ОБРАЗОВАНИЕ | C37: 0400ВS3930 | D37: 07 | H37: 767626.88 | I37: 0 | J37: =I37/H37*100 -> 0
A38: Другие вопросы в области образования | C38: 0400ВS3930 | D38: 07 | E38: 09 | H38: 767626.88 | I38: 0 | J38: =I38/H38*100 -> 0
A39: Расходы на выплаты персоналу в целях обеспечения выполнения функций государственными (муниципальными) органами, казенными учреждениями, органами управления государственными внебюджетными фондами | C39: 0400ВS3930 | D39: 07 | E39: 09 | F39: 100 | H39: 325500 | I39: 0 | J39: =I39/H39*100 -> 0
A40: Расходы на выплаты персоналу казенных учреждений | C40: 0400ВS3930 | D40: 07 | E40: 09 | F40: 110 | H40: 325500 | I40: 0 | J40: =I40/H40*100 -> 0
A41: Администрация Среднеканского муниципального округа Магаданской области | C41: 0400ВS3930 | D41: 07 | E41: 09 | F41: 110 | G41: 701 | H41: 325500 | I41: 0 | J41: =I41/H41*100 -> 0
A42: Закупка товаров, работ и услуг для обеспечения государственных (муниципальных) нужд | C42: 0400ВS3930 | D42: 07 | E42: 09 | F42: 200 | H42: 442126.88 | I42: 0 | J42: =I42/H42*100 -> 0
A43: Иные закупки товаров, работ и услуг для обеспечения государственных (муниципальных) нужд | C43: 0400ВS3930 | D43: 07 | E43: 09 | F43: 240 | H43: 442126.88 | I43: 0 | J43: =I43/H43*100 -> 0
A44: Администрация Среднеканского муниципального округа Магаданской области | C44: 0400ВS3930 | D44: 07 | E44: 09 | F44: 240 | G44: 701 | H44: 442126.88 | I44: 0 | J44: =I44/H44*100 -> 0
A45: Организация отдыха и оздоровление детей в лагерях дневного пребывания на базе учреждений дополнительного образования детей | C45: 0400Ц00000 | H45: 3821066.9 | I45: 0 | J45: =I45/H45*100 -> 0
A46: Расходы на софинансирование организации отдыха и оздоровления детей в лагерях дневного пребывания на базе учреждений дополнительного образования детей | C46: 0400ЦS3930 | H46: 3821066.9 | I46: 0 | J46: =I46/H46*100 -> 0
A47: ОБРАЗОВАНИЕ | C47: 0400ЦS3930 | D47: 07 | H47: 3821066.9 | I47: 0 | J47: =I47/H47*100 -> 0
A48: Другие вопросы в области образования | C48: 0400ЦS3930 | D48: 07 | E48: 09 | H48: 3821066.9 | I48: 0 | J48: =I48/H48*100 -> 0
A49: Расходы на выплаты персоналу в целях обеспечения выполнения функций государственными (муниципальными) органами, казенными учреждениями, органами управления государственными внебюджетными фондами | C49: 0400ЦS3930 | D49: 07 | E49: 09 | F49: 100 | H49: 1923400 | I49: 0 | J49: =I49/H49*100 -> 0
A50: Расходы на выплаты персоналу казенных учреждений | C50: 0400ЦS3930 | D50: 07 | E50: 09 | F50: 110 | H50: 1923400 | I50: 0 | J50: =I50/H50*100 -> 0
A51: Администрация Среднеканского муниципального округа Магаданской области | C51: 0400ЦS3930 | D51: 07 | E51: 09 | F51: 110 | G51: 701 | H51: 1923400 | I51: 0 | J51: =I51/H51*100 -> 0
A52: Закупка товаров, работ и услуг для обеспечения государственных (муниципальных) нужд | C52: 0400ЦS3930 | D52: 07 | E52: 09 | F52: 200 | H52: 1897666.9 | I52: 0 | J52: =I52/H52*100 -> 0
A53: Иные закупки товаров, работ и услуг для обеспечения государственных (муниципальных) нужд | C53: 0400ЦS3930 | D53: 07 | E53: 09 | F53: 240 | H53: 1897666.9 | I53: 0 | J53: =I53/H53*100 -> 0
A54: Администрация Среднеканского муниципального округа Магаданской области | C54: 0400ЦS3930 | D54: 07 | E54: 09 | F54: 240 | G54: 701 | H54: 1897666.9 | I54: 0 | J54: =I54/H54*100 -> 0
A55: Организация отдыха и оздоровление детей в лагерях дневного пребывания на базе общеобразовательной организации | C55: 0400Ш00000 | H55: 555800 | I55: 0 | J55: =I55/H55*100 -> 0
A56: Расходы на софинансирование организации отдыха и оздоровления детей в лагерях дневного пребывания на базе общеобразовательных организациях | C56: 0400ШS3930 | H56: 555800 | I56: 0 | J56: =I56/H56*100 -> 0
A57: ОБРАЗОВАНИЕ | C57: 0400ШS3930 | D57: 07 | H57: 555800 | I57: 0 | J57: =I57/H57*100 -> 0
A58: Другие вопросы в области образования | C58: 0400ШS3930 | D58: 07 | E58: 09 | H58: 555800 | I58: 0 | J58: =I58/H58*100 -> 0
A59: Предоставление субсидий бюджетным, автономным учреждениям и иным некоммерческим организациям | C59: 0400ШS3930 | D59: 07 | E59: 09 | F59: 600 | H59: 555800 | I59: 0 | J59: =I59/H59*100 -> 0
A60: Субсидии бюджетным учреждениям | C60: 0400ШS3930 | D60: 07 | E60: 09 | F60: 610 | H60: 555800 | I60: 0 | J60: =I60/H60*100 -> 0
A61: Администрация Среднеканского муниципального округа Магаданской области | C61: 0400ШS3930 | D61: 07 | E61: 09 | F61: 610 | G61: 701 | H61: 555800 | I61: 0 | J61: =I61/H61*100 -> 0
A62: Реализация муниципальной программы "Социально-культурное развитие и поддержка традиционного образа жизни коренных малочисленных народов Севера в Среднеканском муниципальном округе" | C62: 0500000000 | H62: 427056.7 | I62: 0 | J62: =I62/H62*100 -> 0
A63: Расходы на частичное возмещение расходов по присмотру и уходу за детьми, обучающихся в образовательных организациях, реализующих образовательные программы дошкольного образования, родители которых относятся к КМНС, комбинированного вида | C63: 0508600000 | H63: 427056.7 | I63: 0 | J63: =I63/H63*100 -> 0
A64: Расходы на софинансирование расходов на частичное возмещение расходов по присмотру и уходу за детьми, обучающимися в образовательных организациях, реализующих образовательные программы дошкольного образования, родители которых относятся к коренным малочисленным народам Севера | C64: 05086S3420 | H64: 427056.7 | I64: 0 | J64: =I64/H64*100 -> 0
A65: ОБРАЗОВАНИЕ | C65: 05086S3420 | D65: 07 | H65: 427056.7 | I65: 0 | J65: =I65/H65*100 -> 0
A66: Дошкольное образование | C66: 05086S3420 | D66: 07 | E66: 01 | H66: 427056.7 | I66: 0 | J66: =I66/H66*100 -> 0
A67: Предоставление субсидий бюджетным, автономным учреждениям и иным некоммерческим организациям | C67: 05086S3420 | D67: 07 | E67: 01 | F67: 600 | H67: 427056.7 | I67: 0 | J67: =I67/H67*100 -> 0
A68: Субсидии бюджетным учреждениям | C68: 05086S3420 | D68: 07 | E68: 01 | F68: 610 | H68: 427056.7 | I68: 0 | J68: =I68/H68*100 -> 0
A69: Администрация Среднеканского муниципального округа Магаданской области | C69: 05086S3420 | D69: 07 | E69: 01 | F69: 610 | G69: 701 | H69: 427056.7 | I69: 0 | J69: =I69/H69*100 -> 0
A70: Реализация муниципальной программы "Развитие образования в Среднеканском муниципальном округе на 2015-2022годы" | C70: 1000000000 | H70: 1.7113697e+08 | I70: =-I71+I78+I91+I101+I108+I131+I202+I209+I216 -> 15253884 | J70: =I70/H70*100 -> 8.9132602
A71: Расходы на развитие муниципальных дошкольных учреждений комбинированного вида | C71: 1001600000 | H71: 64264300 | I71: =I72 -> 9600053 | J71: =I71/H71*100 -> 14.938392
A72: Расходы на единую субвенцию в дошкольных учреждениях | C72: 1001674200 | H72: 64264300 | I72: =I73 -> 9600053 | J72: =I72/H72*100 -> 14.938392
A73: ОБРАЗОВАНИЕ | C73: 1001674200 | D73: 07 | H73: 64264300 | I73: =I74 -> 9600053 | J73: =I73/H73*100 -> 14.938392
A74: Дошкольное образование | C74: 1001674200 | D74: 07 | E74: 01 | H74: 64264300 | I74: =I75 -> 9600053 | J74: =I74/H74*100 -> 14.938392
A75: Предоставление субсидий бюджетным, автономным учреждениям и иным некоммерческим организациям | C75: 1001674200 | D75: 07 | E75: 01 | F75: 600 | H75: 64264300 | I75: =I76 -> 9600053 | J75: =I75/H75*100 -> 14.938392
A76: Субсидии бюджетным учреждениям | C76: 1001674200 | D76: 07 | E76: 01 | F76: 610 | H76: 64264300 | I76: =I77 -> 9600053 | J76: =I76/H76*100 -> 14.938392
A77: Администрация Среднеканского муниципального округа Магаданской области | C77: 1001674200 | D77: 07 | E77: 01 | F77: 610 | G77: 701 | H77: 64264300 | I77: =[1]Расходы!$G$105+[1]Расходы!$G$106+[1]Расходы!$G$107+[1]Расходы!$G$108+[1]Расходы!$G$109+[1]Расходы!$G$110+[1]Расходы!$G$111+[1]Расходы!$G$112+[1]Расходы!$G$113+[1]Расходы!$G$114+[1]Расходы!$G$115+[1]Расходы!$G$116 -> 9600053 | J77: =I77/H77*100 -> 14.938392
A78: Расходы на развитие муниципальных образовательных организаций, в сельской школе | C78: 1001В00000 | H78: 30861000 | I78: =I79 -> 7931600.4 | J78: =I78/H78*100 -> 25.701048
A79: Расходы на единую субвенцию общего образования в сельской школе | C79: 1001В74200 | H79: 30861000 | I79: =I80 -> 7931600.4 | J79: =I79/H79*100 -> 25.701048
A80: ОБРАЗОВАНИЕ | C80: 1001В74200 | D80: 07 | H80: 30861000 | I80: =I81 -> 7931600.4 | J80: =I80/H80*100 -> 25.701048
A81: Общее образование | C81: 1001В74200 | D81: 07 | E81: 02 | H81: 30861000 | I81: =I82+I85 -> 7931600.4 | J81: =I81/H81*100 -> 25.701048
A82: Расходы на выплаты персоналу в целях обеспечения выполнения функций государственными (муниципальными) органами, казенными учреждениями, органами управления государственными внебюджетными фондами | C82: 1001В74200 | D82: 07 | E82: 02 | F82: 100 | H82: 30086800 | I82: =I83 -> 7864870.9 | J82: =I82/H82*100 -> 26.140603
A83: Расходы на выплаты персоналу казенных учреждений | C83: 1001В74200 | D83: 07 | E83: 02 | F83: 110 | H83: 30086800 | I83: =I84 -> 7864870.9 | J83: =I83/H83*100 -> 26.140603
A84: Администрация Среднеканского муниципального округа Магаданской области | C84: 1001В74200 | D84: 07 | E84: 02 | F84: 110 | G84: 701 | H84: 30086800 | I84: =[1]Расходы!$G$132+[1]Расходы!$G$133+[1]Расходы!$G$134+[1]Расходы!$G$135+[1]Расходы!$G$136+[1]Расходы!$G$137+[1]Расходы!$G$138+[1]Расходы!$G$139+[1]Расходы!$G$140+[1]Расходы!$G$141+[1]Расходы!$G$142+[1]Расходы!$G$143+[1]Расходы!$G$144+[1]Расходы!$G$145 -> 7864870.9 | J84: =I84/H84*100 -> 26.140603
A85: Закупка товаров, работ и услуг для обеспечения государственных (муниципальных) нужд | C85: 1001В74200 | D85: 07 | E85: 02 | F85: 200 | H85: 583200 | I85: =I86 -> 66729.45 | J85: =I85/H85*100 -> 11.44195
A86: Иные закупки товаров, работ и услуг для обеспечения государственных (муниципальных) нужд | C86: 1001В74200 | D86: 07 | E86: 02 | F86: 240 | H86: 583200 | I86: =I87 -> 66729.45 | J86: =I86/H86*100 -> 11.44195
A87: Администрация Среднеканского муниципального округа Магаданской области | C87: 1001В74200 | D87: 07 | E87: 02 | F87: 240 | G87: 701 | H87: 583200 | I87: =[1]Расходы!$G$146 -> 66729.45 | J87: =I87/H87*100 -> 11.44195
A88: Социальное обеспечение и иные выплаты населению | C88: 1001В74200 | D88: 07 | E88: 02 | F88: 300 | H88: 191000 | I88: 0 | J88: =I88/H88*100 -> 0
A89: Социальные выплаты гражданам, кроме публичных нормативных социальных выплат | C89: 1001В74200 | D89: 07 | E89: 02 | F89: 320 | H89: 191000 | I89: 0 | J89: =I89/H89*100 -> 0
A90: Администрация Среднеканского муниципального округа Магаданской области | C90: 1001В74200 | D90: 07 | E90: 02 | F90: 320 | G90: 701 | H90: 191000 | I90: =[1]Расходы!$G$147 -> 9093.02 | J90: =I90/H90*100 -> 4.7607435
A91: Расходы на развитие деятельности центра дополнительного образования | C91: 1001Ц00000 | H91: 969200 | I91: =I92 -> 127983.15 | J91: =I91/H91*100 -> 13.20503
A92: Расходы на единую субвенцию в центре дополнительного образования | C92: 1001Ц74200 | H92: 969200 | I92: =I93 -> 127983.15 | J92: =I92/H92*100 -> 13.20503
A93: ОБРАЗОВАНИЕ | C93: 1001Ц74200 | D93: 07 | H93: 969200 | I93: =I94 -> 127983.15 | J93: =I93/H93*100 -> 13.20503
A94: Дополнительное образование детей | C94: 1001Ц74200 | D94: 07 | E94: 03 | H94: 969200 | I94: =I95+I98 -> 127983.15 | J94: =I94/H94*100 -> 13.20503
A95: Расходы на выплаты персоналу в целях обеспечения выполнения функций государственными (муниципальными) органами, казенными учреждениями, органами управления государственными внебюджетными фондами | C95: 1001Ц74200 | D95: 07 | E95: 03 | F95: 100 | H95: 827300 | I95: =I96 -> 118613.96 | J95: =I95/H95*100 -> 14.337479
A96: Расходы на выплаты персоналу казенных учреждений | C96: 1001Ц74200 | D96: 07 | E96: 03 | F96: 110 | H96: 827300 | I96: =I97 -> 118613.96 | J96: =I96/H96*100 -> 14.337479
A97: Администрация Среднеканского муниципального округа Магаданской области | C97: 1001Ц74200 | D97: 07 | E97: 03 | F97: 110 | G97: 701 | H97: 827300 | I97: =[1]Расходы!$G$202+[1]Расходы!$G$203+[1]Расходы!$G$204+[1]Расходы!$G$205+[1]Расходы!$G$206+[1]Расходы!$G$207 -> 118613.96 | J97: =I97/H97*100 -> 14.337479
A98: Социальное обеспечение и иные выплаты населению | C98: 1001Ц74200 | D98: 07 | E98: 03 | F98: 300 | H98: 141900 | I98: =I99 -> 9369.19 | J98: =I98/H98*100 -> 6.6026709
A99: Социальные выплаты гражданам, кроме публичных нормативных социальных выплат | C99: 1001Ц74200 | D99: 07 | E99: 03 | F99: 320 | H99: 141900 | I99: =I100 -> 9369.19 | J99: =I99/H99*100 -> 6.6026709
A100: Администрация Среднеканского муниципального округа Магаданской области | C100: 1001Ц74200 | D100: 07 | E100: 03 | F100: 320 | G100: 701 | H100: 141900 | I100: =[1]Расходы!$G$208 -> 9369.19 | J100: =I100/H100*100 -> 6.6026709
A101: Расходы на развитие муниципальных образовательных организаций. общеобразовательных школ | C101: 1001Ш00000 | H101: 65036995 | I101: =I102 -> 14558610 | J101: =I101/H101*100 -> 22.385121
A102: Расходы на единую субвенцию в общеобразовательных школах | C102: 1001Ш74200 | H102: 65036995 | I102: =I103 -> 14558610 | J102: =I102/H102*100 -> 22.385121
...
