Workbook

Sheet Результат
H1: Приложение № 6
H2: к постановлению Администрации
H3: Среднеканского муниципального округа
H4: Магаданской области
H5: от 27.04.2024 г. № 125-п
A7: ИСПОЛНЕНИЕ БЮДЖЕТА МУНИЦИПАЛЬНОГО ОБРАЗОВАНИЯ "СРЕДНЕКАНСКИЙ МУНИЦИПАЛЬНЫЙ ОКРУГ МАГАДАНСКОЙ ОБЛАСТИ" ПО РАСХОДАМ НАПРАВЛЕННЫХ НА ГОСУДАРСТВЕННУЮ ПОДДЕРЖКУ СЕМЬИ И ДЕТЕЙ ЗА I КВАРТАЛ 2024 ГОДА
A9: руб.
A10: Наименование | C10: ЦСР | D10: Рз | E10: Пр | F10: ВР | G10: ГР | H10: План на 2024 год | I10: Исполнено на 01.04.2024 г. | J10: % исполнения
A11: 1 | C11: 2 | D11: 3 | E11: 4 | F11: 5 | G11: 6 | H11: 7 | I11: 8 | J11: 9
A12: ВСЕГО | H12: 1.8577195e+08 | I12: =I13+I34+I62+I70+I224+I232 -> 16292776 | J12: =I12/H12*100 -> 8.7703101
A13: Муниципальная программа "Развитие муниципальной службы в муниципальном образовании "Среднеканский муниципальный округ" | C13: 0300000000 | H13: 7327518 | I13: =I14+I24 -> 826474.95 | J13: =I13/H13*100 -> 11.279057
A14: Осуществление деятельности органов опеки и попечительства над несовершеннолетними | C14: 0301М00000 | H14: 4885012 | I14: =I15 -> 467707.25 | J14: =I14/H14*100 -> 9.5743316
A15: Расходы на осуществление государственных полномочий по организации и осуществлению деятельности органов опеки и попечительства | C15: 0301М74090 | H15: 4885012 | I15: =I16 -> 467707.25 | J15: =I15/H15*100 -> 9.5743316
A16: СОЦИАЛЬНАЯ ПОЛИТИКА | C16: 0301М74090 | D16: 10 | H16: 4885012 | I16: =I17 -> 467707.25 | J16: =I16/H16*100 -> 9.5743316
A17: Другие вопросы в области социальной политики | C17: 0301М74090 | D17: 10 | E17: 06 | H17: 4885012 | I17: =I18+I21 -> 467707.25 | J17: =I17/H17*100 -> 9.5743316
A18: Расходы на выплаты персоналу в целях обеспечения выполнения функций государственными (муниципальными) органами, казенными учреждениями, органами управления государственными внебюджетными фондами | C18: 0301М74090 | D18: 10 | E18: 06 | F18: 100 | H18: 4440920 | I18: =I19 -> 464107.25 | J18: =I18/H18*100 -> 10.450701
A19: Расходы на выплаты персоналу государственных (муниципальных) органов | C19: 0301М74090 | D19: 10 | E19: 06 | F19: 120 | H19: 4440920 | I19: =I20 -> 464107.25 | J19: =I19/H19*100 -> 10.450701
A20: Администрация Среднеканского муниципального округа Магаданской области | C20: 0301М74090 | D20: 10 | E20: 06 | F20: 120 | G20: 701 | H20: 4440920 | I20: =[1]Расходы!$G$244+[1]Расходы!$G$245 -> 464107.25 | J20: =I20/H20*100 -> 10.450701
A21: Закупка товаров, работ и услуг для обеспечения государственных (муниципальных) нужд | C21: 0301М74090 | D21: 10 | E21: 06 | F21: 200 | H21: 444092 | I21: =I22 -> 3600 | J21: =I21/H21*100 -> 0.81064284
A22: Иные закупки товаров, работ и услуг для обеспечения государственных (муниципальных) нужд | C22: 0301М74090 | D22: 10 | E22: 06 | F22: 240 | H22: 444092 | I22: =I23 -> 3600 | J22: =I22/H22*100 -> 0.81064284
A23: Администрация Среднеканского муниципального округа Магаданской области | C23: 0301М74090 | D23: 10 | E23: 06 | F23: 240 | G23: 701 | H23: 444092 | I23: =+[1]Расходы!$G$246 -> 3600 | J23: =I23/H23*100 -> 0.81064284
A24: Организации деятельности комиссий по делам несовершеннолетних | C24: 0301Н00000 | H24: 2442506 | I24: =I25 -> 358767.7 | J24: =I24/H24*100 -> 14.688508
A25: Расходы на единую субвенцию государственных полномочий по созданию и организации деятельности комиссий по делам несовершеннолетних и защите их прав | C25: 0301Н74200 | H25: 2442506 | I25: =I26 -> 358767.7 | J25: =I25/H25*100 -> 14.688508
A26: ОБРАЗОВАНИЕ | C26: 0301Н74200 | D26: 07 | H26: 2442506 | I26: =I27 -> 358767.7 | J26: =I26/H26*100 -> 14.688508
A27: Другие вопросы в области образования | C27: 0301Н74200 | D27: 07 | E27: 09 | H27: 2442506 | I27: =I28+I31 -> 358767.7 | J27: =I27/H27*100 -> 14.688508
A28: Расходы на выплаты персоналу в целях обеспечения выполнения функций государственными (муниципальными) органами, казенными учреждениями, органами управления государственными внебюджетными фондами | C28: 0301Н74200 | D28: 07 | E28: 09 | F28: 100 | H28: 2220460 | I28: =I29 -> 356967.7 | J28: =I28/H28*100 -> 16.076295
A29: Расходы на выплаты персоналу государственных (муниципальных) органов | C29: 0301Н74200 | D29: 07 | E29: 09 | F29: 120 | H29: 2220460 | I29: =I30 -> 356967.7 | J29: =I29/H29*100 -> 16.076295
A30: Администрация Среднеканского муниципального округа Магаданской области | C30: 0301Н74200 | D30: 07 | E30: 09 | F30: 120 | G30: 701 | H30: 2220460 | I30: =[1]Расходы!$G$213+[1]Расходы!$G$214 -> 356967.7 | J30: =I30/H30*100 -> 16.076295
A31: Закупка товаров, работ и услуг для обеспечения государственных (муниципальных) нужд | C31: 0301Н74200 | D31: 07 | E31: 09 | F31: 200 | H31: 222046 | I31: =I32 -> 1800 | J31: =I31/H31*100 -> 0.81064284
A32: Иные закупки товаров, работ и услуг для обеспечения государственных (муниципальных) нужд | C32: 0301Н74200 | D32: 07 | E32: 09 | F32: 240 | H32: 222046 | I32: =I33 -> 1800 | J32: =I32/H32*100 -> 0.81064284
A33: Администрация Среднеканского муниципального округа Магаданской области | C33: 0301Н74200 | D33: 07 | E33: 09 | F33: 240 | G33: 701 | H33: 222046 | I33: =[1]Расходы!$G$215 -> 1800 | J33: =I33/H33*100 -> 0.81064284
A34: Реализация муниципальной программы летнего оздоровления и занятости детей Среднеканского муниципального округа | C34: 0400000000 | H34: 5144493.7 | I34: 0 | J34: =I34/H34*100 -> 0
A35: Организация отдыха и оздоровление детей в лагерях дневного пребывания учащихся в сельских школах | C35: 0400В00000 | H35: 767626.88 | I35: 0 | J35: =I35/H35*100 -> 0
A36: Расходы на софинансирование организации отдыха и оздоровления детей в лагерях дневного пребывания на базе сельских школ | C36: 0400ВS3930 | H36: 767626.88 | I36: 0 | J36: =I36/H36*100 -> 0
A37: ОБРАЗОВАНИЕ | C37: 0400ВS3930 | D37: 07 | H37: 767626.88 | I37: 0 | J37: =I37/H37*100 -> 0
A38: Другие вопросы в области образования | C38: 0400ВS3930 | D38: 07 | E38: 09 | H38: 767626.88 | I38: 0 | J38: =I38/H38*100 -> 0
A39: Расходы на выплаты персоналу в целях обеспечения выполнения функций государственными (муниципальными) органами, казенными учреждениями, органами управления государственными внебюджетными фондами | C39: 0400ВS3930 | D39: 07 | E39: 09 | F39: 100 | H39: 325500 | I39: 0 | J39: =I39/H39*100 -> 0
A40: Расходы на выплаты персоналу казенных учреждений | C40: 0400ВS3930 | D40: 07 | E40: 09 | F40: 110 | H40: 325500 | I40: 0 | J40: =I40/H40*100 -> 0
A41: Администрация Среднеканского муниципального округа Магаданской области | C41: 0400ВS3930 | D41: 07 | E41: 09 | F41: 110 | G41: 701 | H41: 325500 | I41: 0 | J41: =I41/H41*100 -> 0
A42: Закупка товаров, работ и услуг для обеспечения государственных (муниципальных) нужд | C42: 0400ВS3930 | D42: 07 | E42: 09 | F42: 200 | H42: 442126.88 | I42: 0 | J42: =I42/H42*100 -> 0
...
